BEGIN:VCALENDAR
VERSION:2.0
PRODID:-//wp-events-plugin.com//7.2.3.1//EN
BEGIN:VEVENT
UID:4@resoluteaim.com
DTSTART:20251118T223000Z
DTEND:20251118T233000Z
DTSTAMP:20260226T193937Z
URL:https://resoluteaim.com/events/building-with-ai-tools-code-and-collabo
 ration/
SUMMARY:Building with AI: Tools\, Code\, and Collaboration
DESCRIPTION:Explore how developers are using AI to build smarter\, faster\,
  and more impactful solutions.
ATTACH;FMTTYPE=image/jpeg:https://resoluteaim.com/wp-content/uploads/2026/
 02/AI-Dev-Meetup-November-18th-Flyer.png
CATEGORIES:Developers
LOCATION:TheClubhou.se at The Georgia Cyber Center\, Georgia Cyber Center 1
 00 Grace Hopper Lane\, Augusta\, GA\, 30901\, United States
X-APPLE-STRUCTURED-LOCATION;VALUE=URI;X-ADDRESS=Georgia Cyber Center 100 Gr
 ace Hopper Lane\, Augusta\, GA\, 30901\, United States;X-APPLE-RADIUS=100;
 X-TITLE=TheClubhou.se at The Georgia Cyber Center:geo:0,0
END:VEVENT
END:VCALENDAR