BEGIN:VCALENDAR
VERSION:2.0
PRODID:-//wp-events-plugin.com//7.2.3.1//EN
BEGIN:VEVENT
UID:3@resoluteaim.com
DTSTART:20251118T170000Z
DTEND:20251118T180000Z
DTSTAMP:20260226T193321Z
URL:https://resoluteaim.com/events/ai-in-the-workplace-leading-through-cha
 nge/
SUMMARY:AI in the Workplace: Leading Through Change
DESCRIPTION:Learn how AI is transforming HR\, training\, and leadership —
  and how to lead with confidence in a tech-driven world.
ATTACH;FMTTYPE=image/jpeg:https://resoluteaim.com/wp-content/uploads/2026/
 02/AI-HR-Luncheon-Meetup-November-18th.png
CATEGORIES:HR
LOCATION:TheClubhou.se at The Georgia Cyber Center\, Georgia Cyber Center 1
 00 Grace Hopper Lane\, Augusta\, GA\, 30901\, United States
X-APPLE-STRUCTURED-LOCATION;VALUE=URI;X-ADDRESS=Georgia Cyber Center 100 Gr
 ace Hopper Lane\, Augusta\, GA\, 30901\, United States;X-APPLE-RADIUS=100;
 X-TITLE=TheClubhou.se at The Georgia Cyber Center:geo:0,0
END:VEVENT
END:VCALENDAR