BEGIN:VCALENDAR
VERSION:2.0
PRODID:-//wp-events-plugin.com//7.2.3.1//EN
BEGIN:VEVENT
UID:5@resoluteaim.com
DTSTART:20251210T200000Z
DTEND:20251210T220000Z
DTSTAMP:20260226T195101Z
URL:https://resoluteaim.com/events/ai-for-accounting-professionals-worksho
 p/
SUMMARY:AI for Accounting Professionals Workshop
DESCRIPTION:Accounting professionals carry the weight of accuracy and trust
  every day. Resolute Aim\, in partnership with theClubhou_se.se\, is hosti
 ng a workshop to help you explore how AI can support that work with clarit
 y and purpose.\n\nWe’ll walk through practical tools\, real examples\, a
 nd thoughtful discussion on how AI can enhance\, and not replace the exper
 tise you bring.
ATTACH;FMTTYPE=image/jpeg:https://resoluteaim.com/wp-content/uploads/2025/
 12/AI-for-Accounting-Professionals-Workshop.jpg
CATEGORIES:Accounting
LOCATION:TheClubhou.se at The Georgia Cyber Center\, Georgia Cyber Center 1
 00 Grace Hopper Lane\, Augusta\, GA\, 30901\, United States
X-APPLE-STRUCTURED-LOCATION;VALUE=URI;X-ADDRESS=Georgia Cyber Center 100 Gr
 ace Hopper Lane\, Augusta\, GA\, 30901\, United States;X-APPLE-RADIUS=100;
 X-TITLE=TheClubhou.se at The Georgia Cyber Center:geo:0,0
END:VEVENT
END:VCALENDAR