BEGIN:VCALENDAR
VERSION:2.0
PRODID:-//wp-events-plugin.com//7.2.3.1//EN
BEGIN:VEVENT
UID:6@resoluteaim.com
DTSTART:20260205T213000Z
DTEND:20260205T223000Z
DTSTAMP:20260226T195941Z
URL:https://resoluteaim.com/events/ai-developers-happy-hour/
SUMMARY:AI Developers Happy Hour
DESCRIPTION:Builders learn best from other builders.\n\nJoin us for a relax
 ed AI Developer Happy Hour where we will talk honestly about how AI is bei
 ng used today and where it is creating real value for developers and teams
 .\n\nHope to see you there!!
ATTACH;FMTTYPE=image/jpeg:https://resoluteaim.com/wp-content/uploads/2026/
 02/Resolute-AIM-Developers-Meetup-LinkedIn-Flyer-Templates.jpg
CATEGORIES:Developers
LOCATION:TheClubhou.se at The Georgia Cyber Center\, Georgia Cyber Center 1
 00 Grace Hopper Lane\, Augusta\, GA\, 30901\, United States
X-APPLE-STRUCTURED-LOCATION;VALUE=URI;X-ADDRESS=Georgia Cyber Center 100 Gr
 ace Hopper Lane\, Augusta\, GA\, 30901\, United States;X-APPLE-RADIUS=100;
 X-TITLE=TheClubhou.se at The Georgia Cyber Center:geo:0,0
END:VEVENT
END:VCALENDAR