BEGIN:VCALENDAR
VERSION:2.0
PRODID:-//wp-events-plugin.com//7.2.3.1//EN
BEGIN:VEVENT
UID:7@resoluteaim.com
DTSTART:20260312T213000Z
DTEND:20260312T223000Z
DTSTAMP:20260303T155208Z
URL:https://resoluteaim.com/events/ai-developer-happy-hour/
SUMMARY:AI Developer Happy Hour
DESCRIPTION:Local developers\, this one’s for you.\nWe’re bringing toge
 ther programmers and IT pros who are actively building with AI for a laid-
 back afternoon of real conversation\, practical insights\, and peer connec
 tion.\nIf you’re experimenting\, shipping\, or thinking about monetizing
  AI solutions\, you’ll want a seat in the room.\nJoin us March 12th at t
 heClubhou.se.\nRSVP: Alan@ResoluteAIM.com
ATTACH;FMTTYPE=image/jpeg:https://resoluteaim.com/wp-content/uploads/2026/
 03/AI-Dev-Meetup-March.jpg
CATEGORIES:Developers
LOCATION:TheClubhou.se at The Georgia Cyber Center\, Georgia Cyber Center 1
 00 Grace Hopper Lane\, Augusta\, GA\, 30901\, United States
X-APPLE-STRUCTURED-LOCATION;VALUE=URI;X-ADDRESS=Georgia Cyber Center 100 Gr
 ace Hopper Lane\, Augusta\, GA\, 30901\, United States;X-APPLE-RADIUS=100;
 X-TITLE=TheClubhou.se at The Georgia Cyber Center:geo:0,0
END:VEVENT
END:VCALENDAR