BEGIN:VCALENDAR
VERSION:2.0
PRODID:-//wp-events-plugin.com//7.2.3.1//EN
BEGIN:VEVENT
UID:11@resoluteaim.com
DTSTART:20260709T213000Z
DTEND:20260709T223000Z
DTSTAMP:20260303T162952Z
URL:https://resoluteaim.com/events/ai-developer-happy-hour-5/
SUMMARY:AI Developer Happy Hour
DESCRIPTION:A casual gathering for AI-focused developers and IT professiona
 ls who want to learn\, share\, and collaborate. Expect thoughtful discussi
 on around tools\, patterns\, and opportunities for those integrating AI in
 to real-world environments.
ATTACH;FMTTYPE=image/jpeg:https://resoluteaim.com/wp-content/uploads/2026/
 03/AI-Dev-Meetup-July.jpg
CATEGORIES:Developers
LOCATION:TheClubhou.se at The Georgia Cyber Center\, Georgia Cyber Center 1
 00 Grace Hopper Lane\, Augusta\, GA\, 30901\, United States
X-APPLE-STRUCTURED-LOCATION;VALUE=URI;X-ADDRESS=Georgia Cyber Center 100 Gr
 ace Hopper Lane\, Augusta\, GA\, 30901\, United States;X-APPLE-RADIUS=100;
 X-TITLE=TheClubhou.se at The Georgia Cyber Center:geo:0,0
END:VEVENT
END:VCALENDAR