BEGIN:VCALENDAR
VERSION:2.0
PRODID:-//wp-events-plugin.com//7.2.3.1//EN
BEGIN:VEVENT
UID:10@resoluteaim.com
DTSTART:20260611T213000Z
DTEND:20260611T223000Z
DTSTAMP:20260303T161315Z
URL:https://resoluteaim.com/events/ai-developer-happy-hour-4/
SUMMARY:AI Developer Happy Hour
DESCRIPTION:A relaxed meetup for developers actively exploring or deploying
  AI solutions. We’ll focus on practical use cases\, implementation lesso
 ns\, and meaningful conversations with other builders in the CSRA tech com
 munity.
ATTACH;FMTTYPE=image/jpeg:https://resoluteaim.com/wp-content/uploads/2026/
 03/AI-Dev-Meetup-June.jpg
CATEGORIES:Developers
LOCATION:TheClubhou.se at The Georgia Cyber Center\, Georgia Cyber Center 1
 00 Grace Hopper Lane\, Augusta\, GA\, 30901\, United States
X-APPLE-STRUCTURED-LOCATION;VALUE=URI;X-ADDRESS=Georgia Cyber Center 100 Gr
 ace Hopper Lane\, Augusta\, GA\, 30901\, United States;X-APPLE-RADIUS=100;
 X-TITLE=TheClubhou.se at The Georgia Cyber Center:geo:0,0
END:VEVENT
END:VCALENDAR