BEGIN:VCALENDAR
VERSION:2.0
PRODID:-//wp-events-plugin.com//7.2.3.1//EN
BEGIN:VEVENT
UID:9@resoluteaim.com
DTSTART:20260507T213000Z
DTEND:20260507T223000Z
DTSTAMP:20260303T161057Z
URL:https://resoluteaim.com/events/ai-developer-happy-hour-3/
SUMMARY:AI Developer Happy Hour
DESCRIPTION:An informal AI Developer Happy Hour for IT professionals and pr
 ogrammers building with AI. Join us for practical discussion\, peer insigh
 t\, and real-world implementation ideas. Connect with other local builders
  and share what’s working.
ATTACH;FMTTYPE=image/jpeg:https://resoluteaim.com/wp-content/uploads/2026/
 03/AI-Dev-Meetup-May.jpg
CATEGORIES:Developers
LOCATION:TheClubhou.se at The Georgia Cyber Center\, Georgia Cyber Center 1
 00 Grace Hopper Lane\, Augusta\, GA\, 30901\, United States
X-APPLE-STRUCTURED-LOCATION;VALUE=URI;X-ADDRESS=Georgia Cyber Center 100 Gr
 ace Hopper Lane\, Augusta\, GA\, 30901\, United States;X-APPLE-RADIUS=100;
 X-TITLE=TheClubhou.se at The Georgia Cyber Center:geo:0,0
END:VEVENT
END:VCALENDAR