BEGIN:VCALENDAR
VERSION:2.0
PRODID:-//wp-events-plugin.com//7.2.3.1//EN
BEGIN:VEVENT
UID:8@resoluteaim.com
DTSTART:20260409T213000Z
DTEND:20260409T223000Z
DTSTAMP:20260303T155636Z
URL:https://resoluteaim.com/events/ai-developer-happy-hour-2/
SUMMARY:AI Developer Happy Hour
DESCRIPTION:\nIT Devs and Programmers — let’s get the builders in the r
 oom.\nWe’re hosting an informal AI Developer Happy Hour at theClubhou.se
  on April 9th at 4:30 PM.\nThis isn’t a sales pitch. It’s a working se
 ssion.\nWe’ll talk about how AI is actually being used right now\, share
  agent patterns and utilities that many developers haven’t explored yet\
 , and have honest conversations about real revenue paths for freelancers\,
  small shops\, and product teams integrating AI into their stack.\nIf you
 ’re building\, experimenting\, or deploying AI in production\, this is f
 or you.\nSnacks and refreshments provided.\nRSVP: Alan@ResoluteAIM.com
ATTACH;FMTTYPE=image/jpeg:https://resoluteaim.com/wp-content/uploads/2026/
 03/AI-Dev-Meetup-April.jpg
CATEGORIES:Developers
LOCATION:TheClubhou.se at The Georgia Cyber Center\, Georgia Cyber Center 1
 00 Grace Hopper Lane\, Augusta\, GA\, 30901\, United States
X-APPLE-STRUCTURED-LOCATION;VALUE=URI;X-ADDRESS=Georgia Cyber Center 100 Gr
 ace Hopper Lane\, Augusta\, GA\, 30901\, United States;X-APPLE-RADIUS=100;
 X-TITLE=TheClubhou.se at The Georgia Cyber Center:geo:0,0
END:VEVENT
END:VCALENDAR