BEGIN:VCALENDAR
VERSION:2.0
PRODID:-//wp-events-plugin.com//7.2.3.1//EN
BEGIN:VEVENT
UID:1@resoluteaim.com
DTSTART:20251113T233000Z
DTEND:20251114T014500Z
DTSTAMP:20251110T024954Z
URL:https://resoluteaim.com/events/accountant-user-group-trivia-night-sava
 nnah-river-brewery/
SUMMARY:Accountant User Group + Trivia Night - Savannah River Brewery
DESCRIPTION:
LOCATION:Savannah River Brewing Co\, 813 5th St\, Augusta\, GA\, 30901\, Un
 ited States
X-APPLE-STRUCTURED-LOCATION;VALUE=URI;X-ADDRESS=813 5th St\, Augusta\, GA\,
  30901\, United States;X-APPLE-RADIUS=100;X-TITLE=Savannah River Brewing C
 o:geo:0,0
END:VEVENT
END:VCALENDAR